BEGIN:VCALENDAR
VERSION:2.0
PRODID:icalendar-ruby
CALSCALE:GREGORIAN
METHOD:PUBLISH
BEGIN:VEVENT
DTSTAMP:20260425T004836Z
UID:9e981cb5-1bef-47a0-b65d-25516abd931c
DTSTART;VALUE=DATE:20190702
DTEND;VALUE=DATE:20190702
DESCRIPTION:Boulder BMX\, Inc
LOCATION:1799 Commons Way  Boulder City NV 89005 USA
SUMMARY:Standard Single Single
URL:/site/bmx_races/417623
END:VEVENT
END:VCALENDAR
