BEGIN:VCALENDAR
VERSION:2.0
PRODID:icalendar-ruby
CALSCALE:GREGORIAN
METHOD:PUBLISH
BEGIN:VEVENT
DTSTAMP:20260425T005205Z
UID:6d6285f0-caed-4c87-bca5-dd22f92d13fb
DTSTART;VALUE=DATE:20190731
DTEND;VALUE=DATE:20190731
DESCRIPTION:First State BMX
LOCATION:1045 N Walnut St  Milford DE 19963 USA
SUMMARY:Clinic
URL:/site/bmx_races/418244
END:VEVENT
END:VCALENDAR
