BEGIN:VCALENDAR
VERSION:2.0
PRODID:icalendar-ruby
CALSCALE:GREGORIAN
METHOD:PUBLISH
BEGIN:VEVENT
DTSTAMP:20260419T181326Z
UID:d6b2ecb5-aeb1-4d22-9c5f-8e54a7b388a8
DTSTART;VALUE=DATE:20190919
DTEND;VALUE=DATE:20190919
DESCRIPTION:Hire Park BMX
LOCATION:750 E Arthur St  Warsaw IN 46580 USA
SUMMARY:Standard Single Single
URL:/site/bmx_races/418513
END:VEVENT
END:VCALENDAR
