BEGIN:VCALENDAR
VERSION:2.0
PRODID:icalendar-ruby
CALSCALE:GREGORIAN
METHOD:PUBLISH
BEGIN:VEVENT
DTSTAMP:20260424T094641Z
UID:e6a86e44-8d17-4ec8-b330-0c554c6a8d17
DTSTART;VALUE=DATE:20190720
DTEND;VALUE=DATE:20190720
DESCRIPTION:Grand Forks BMX
LOCATION:Kettle River Dr & 7th St  Grand Forks BC V0H1H0 CAN
SUMMARY:Race For Life Double Double
URL:/site/bmx_races/418708
END:VEVENT
END:VCALENDAR
