BEGIN:VCALENDAR
VERSION:2.0
PRODID:icalendar-ruby
CALSCALE:GREGORIAN
METHOD:PUBLISH
BEGIN:VEVENT
DTSTAMP:20260424T142420Z
UID:ad558bb9-adac-4af9-b371-2a6687e2ba73
DTSTART;VALUE=DATE:20190801
DTEND;VALUE=DATE:20190801
DESCRIPTION:Manzanita Park BMX
LOCATION: 17100 Castroville Blvd  Prunedale CA 93907 USA
SUMMARY:Standard Single Single
URL:/site/bmx_races/418962
END:VEVENT
END:VCALENDAR
