BEGIN:VCALENDAR
VERSION:2.0
PRODID:icalendar-ruby
CALSCALE:GREGORIAN
METHOD:PUBLISH
BEGIN:VEVENT
DTSTAMP:20260424T220011Z
UID:2f7721c7-c720-4456-a80f-db84140136a2
DTSTART;VALUE=DATE:20190922
DTEND;VALUE=DATE:20190922
DESCRIPTION:Billerica BMX
LOCATION:270 Treble Cove Rd  Billerica MA 01821 USA
SUMMARY:Warnicke Double
URL:/site/bmx_races/419520
END:VEVENT
END:VCALENDAR
