BEGIN:VCALENDAR
VERSION:2.0
PRODID:icalendar-ruby
CALSCALE:GREGORIAN
METHOD:PUBLISH
BEGIN:VEVENT
DTSTAMP:20260419T155456Z
UID:24116c20-626e-4b28-9773-a7b011fc5562
DTSTART;VALUE=DATE:20190817
DTEND;VALUE=DATE:20190817
DESCRIPTION:Duke City BMX
LOCATION:1011 Buena Vista Dr Se  Albuquerque NM 87106 USA
SUMMARY:Standard Single Single
URL:/site/bmx_races/419546
END:VEVENT
END:VCALENDAR
