BEGIN:VCALENDAR
VERSION:2.0
PRODID:icalendar-ruby
CALSCALE:GREGORIAN
METHOD:PUBLISH
BEGIN:VEVENT
DTSTAMP:20260419T184418Z
UID:ee9d6f9f-fddd-41b5-a260-86991c516d4a
DTSTART;VALUE=DATE:20190820
DTEND;VALUE=DATE:20190820
DESCRIPTION:Triple Creek BMX
LOCATION:12705 Balm Boyette Rd  Riverview FL 33579 USA
SUMMARY:Standard Single Single
URL:/site/bmx_races/419572
END:VEVENT
END:VCALENDAR
