BEGIN:VCALENDAR
VERSION:2.0
PRODID:icalendar-ruby
CALSCALE:GREGORIAN
METHOD:PUBLISH
BEGIN:VEVENT
DTSTAMP:20260425T004806Z
UID:00eb08c2-0146-4a62-b00b-7ae36caf7307
DTSTART;VALUE=DATE:20190824
DTEND;VALUE=DATE:20190824
DESCRIPTION:Mike Sedar BMX
LOCATION:789 College Dr  Casper WY 82601 USA
SUMMARY:Earned Double
URL:/site/bmx_races/419664
END:VEVENT
END:VCALENDAR
