BEGIN:VCALENDAR
VERSION:2.0
PRODID:icalendar-ruby
CALSCALE:GREGORIAN
METHOD:PUBLISH
BEGIN:VEVENT
DTSTAMP:20260422T054939Z
UID:ec7bd3fc-4981-42ee-bf3c-718fa4787a48
DTSTART;VALUE=DATE:20191010
DTEND;VALUE=DATE:20191010
DESCRIPTION:Marquette BMX
LOCATION:910 Hawley Street  Marquette MI 49855 USA
SUMMARY:Standard Single Single
URL:/site/bmx_races/419751
END:VEVENT
END:VCALENDAR
