BEGIN:VCALENDAR
VERSION:2.0
PRODID:icalendar-ruby
CALSCALE:GREGORIAN
METHOD:PUBLISH
BEGIN:VEVENT
DTSTAMP:20260422T070739Z
UID:253f58c2-11c3-45c6-ac03-f560984f958d
DTSTART;VALUE=DATE:20190903
DTEND;VALUE=DATE:20190903
DESCRIPTION:Cargill Park BMX
LOCATION:2800 Cargill Drive  Shreveport LA 71108 USA
SUMMARY:Standard Single Single
URL:/site/bmx_races/420139
END:VEVENT
END:VCALENDAR
