BEGIN:VCALENDAR
VERSION:2.0
PRODID:icalendar-ruby
CALSCALE:GREGORIAN
METHOD:PUBLISH
BEGIN:VEVENT
DTSTAMP:20260423T204612Z
UID:ae22b8cb-6d5b-4471-a29c-ab072439f7f8
DTSTART;VALUE=DATE:20191016
DTEND;VALUE=DATE:20191016
DESCRIPTION:Ancient City BMX
LOCATION:3005 Alan Nease Rd  St Augustine FL 32033 USA
SUMMARY:Standard Single Single
URL:/site/bmx_races/420194
END:VEVENT
END:VCALENDAR
