BEGIN:VCALENDAR
VERSION:2.0
PRODID:icalendar-ruby
CALSCALE:GREGORIAN
METHOD:PUBLISH
BEGIN:VEVENT
DTSTAMP:20260422T070740Z
UID:3311d345-df29-4ac5-a338-f33439bd7727
DTSTART;VALUE=DATE:20191012
DTEND;VALUE=DATE:20191012
DESCRIPTION:Grand Valley BMX
LOCATION:2785 U.S. Highway 50  Grand Junction CO 81503 USA
SUMMARY:Practice
URL:/site/bmx_races/420224
END:VEVENT
END:VCALENDAR
