BEGIN:VCALENDAR
VERSION:2.0
PRODID:icalendar-ruby
CALSCALE:GREGORIAN
METHOD:PUBLISH
BEGIN:VEVENT
DTSTAMP:20260422T070915Z
UID:1882ea14-d4f7-42fb-85fe-2c620de3454f
DTSTART;VALUE=DATE:20191026
DTEND;VALUE=DATE:20191026
DESCRIPTION:Grand Valley BMX
LOCATION:2785 U.S. Highway 50  Grand Junction CO 81503 USA
SUMMARY:Practice
URL:/site/bmx_races/420226
END:VEVENT
END:VCALENDAR
