BEGIN:VCALENDAR
VERSION:2.0
PRODID:icalendar-ruby
CALSCALE:GREGORIAN
METHOD:PUBLISH
BEGIN:VEVENT
DTSTAMP:20260423T195112Z
UID:8afaad7e-6ac7-4bc5-b0da-0e8b7cdaa97c
DTSTART;VALUE=DATE:20191020
DTEND;VALUE=DATE:20191020
DESCRIPTION:Circle City BMX
LOCATION:Westgate Park    100 Recreation Rd Dothan AL 36305 USA
SUMMARY:Standard Single Single
URL:/site/bmx_races/420298
END:VEVENT
END:VCALENDAR
