BEGIN:VCALENDAR
VERSION:2.0
PRODID:icalendar-ruby
CALSCALE:GREGORIAN
METHOD:PUBLISH
BEGIN:VEVENT
DTSTAMP:20260423T082525Z
UID:1266f330-c795-4462-8102-92b8ea3e2923
DTSTART;VALUE=DATE:20191014
DTEND;VALUE=DATE:20191014
DESCRIPTION:Cornwall BMX
LOCATION:Guindon Park 3260 Vincent Massey Drive Cornwall ON K6H 5R6 CAN
SUMMARY:Standard Single Single
URL:/site/bmx_races/420340
END:VEVENT
END:VCALENDAR
