BEGIN:VCALENDAR
VERSION:2.0
PRODID:icalendar-ruby
CALSCALE:GREGORIAN
METHOD:PUBLISH
BEGIN:VEVENT
DTSTAMP:20260419T182519Z
UID:233916c2-753c-48fe-89bd-346c7b80be0f
DTSTART;VALUE=DATE:20191012
DTEND;VALUE=DATE:20191012
DESCRIPTION:Miami South BMX
LOCATION:13050 Sw 216th Street  Miami FL 33170 USA
SUMMARY:Standard Single Single
URL:/site/bmx_races/420387
END:VEVENT
END:VCALENDAR
