BEGIN:VCALENDAR
VERSION:2.0
PRODID:icalendar-ruby
CALSCALE:GREGORIAN
METHOD:PUBLISH
BEGIN:VEVENT
DTSTAMP:20260423T062124Z
UID:d1fa17f8-a58d-434e-924c-f36c67fd5fa1
DTSTART;VALUE=DATE:20191008
DTEND;VALUE=DATE:20191008
DESCRIPTION:Circle City BMX
LOCATION:Westgate Park    100 Recreation Rd Dothan AL 36305 USA
SUMMARY:Standard Single Single
URL:/site/bmx_races/420912
END:VEVENT
END:VCALENDAR
