BEGIN:VCALENDAR
VERSION:2.0
PRODID:icalendar-ruby
CALSCALE:GREGORIAN
METHOD:PUBLISH
BEGIN:VEVENT
DTSTAMP:20260425T125953Z
UID:9555b42d-e354-4fa5-a25f-612fc4bbc737
DTSTART;VALUE=DATE:20200906
DTEND;VALUE=DATE:20200906
DESCRIPTION:Richfield Park BMX
LOCATION:6550 N Irish Road  Davison MI 48423 USA
SUMMARY:Standard Single Single
URL:/site/bmx_races/421923
END:VEVENT
END:VCALENDAR
