BEGIN:VCALENDAR
VERSION:2.0
PRODID:icalendar-ruby
CALSCALE:GREGORIAN
METHOD:PUBLISH
BEGIN:VEVENT
DTSTAMP:20260422T013128Z
UID:2dd73955-776b-40d9-99df-92321214ce88
DTSTART;VALUE=DATE:20201001
DTEND;VALUE=DATE:20201001
DESCRIPTION:Spokane BMX
LOCATION:5701 N Assembly St  Spokane WA 99205 USA
SUMMARY:Standard Single Single
URL:/site/bmx_races/422254
END:VEVENT
END:VCALENDAR
