BEGIN:VCALENDAR
VERSION:2.0
PRODID:icalendar-ruby
CALSCALE:GREGORIAN
METHOD:PUBLISH
BEGIN:VEVENT
DTSTAMP:20260424T030321Z
UID:2ad7be47-9e55-4f44-9637-dfc2677531fa
DTSTART;VALUE=DATE:20201017
DTEND;VALUE=DATE:20201018
DESCRIPTION:Derby City BMX
LOCATION:3000 Freys Hill Rd  Louisville KY 40241 USA
SUMMARY:DERBY CITY NATIONALS
URL:/site/bmx_races/422422
END:VEVENT
END:VCALENDAR
