BEGIN:VCALENDAR
VERSION:2.0
PRODID:icalendar-ruby
CALSCALE:GREGORIAN
METHOD:PUBLISH
BEGIN:VEVENT
DTSTAMP:20260422T143452Z
UID:925ed2d1-bc13-4e7b-a1e4-4d4447c82876
DTSTART;VALUE=DATE:20200215
DTEND;VALUE=DATE:20200215
DESCRIPTION:Blanchard Woods BMX
LOCATION:4600 Blanchard Woods Drive  Evans GA 30809 USA
SUMMARY:Standard Single Single
URL:/site/bmx_races/422596
END:VEVENT
END:VCALENDAR
