BEGIN:VCALENDAR
VERSION:2.0
PRODID:icalendar-ruby
CALSCALE:GREGORIAN
METHOD:PUBLISH
BEGIN:VEVENT
DTSTAMP:20260424T043100Z
UID:32964fe5-c9d3-46ff-b499-55b72d7be208
DTSTART;VALUE=DATE:20200831
DTEND;VALUE=DATE:20200831
DESCRIPTION:Razor City BMX
LOCATION:200 Pumphouse Ln  Gillette WY 82716 USA
SUMMARY:Standard Single Single
URL:/site/bmx_races/423210
END:VEVENT
END:VCALENDAR
