BEGIN:VCALENDAR
VERSION:2.0
PRODID:icalendar-ruby
CALSCALE:GREGORIAN
METHOD:PUBLISH
BEGIN:VEVENT
DTSTAMP:20260424T014724Z
UID:8656ad9b-00c3-4788-94ba-37528e09e601
DTSTART;VALUE=DATE:20201012
DTEND;VALUE=DATE:20201012
DESCRIPTION:Razor City BMX
LOCATION:200 Pumphouse Ln  Gillette WY 82716 USA
SUMMARY:Standard Single Single
URL:/site/bmx_races/423216
END:VEVENT
END:VCALENDAR
