BEGIN:VCALENDAR
VERSION:2.0
PRODID:icalendar-ruby
CALSCALE:GREGORIAN
METHOD:PUBLISH
BEGIN:VEVENT
DTSTAMP:20260424T011438Z
UID:636c42f5-a9e4-4a2c-b409-a5ee7fd01b66
DTSTART;VALUE=DATE:20200627
DTEND;VALUE=DATE:20200627
DESCRIPTION:Twin Silo BMX
LOCATION:5400 Ziegler Rd.   Ft Collins CO 80528 USA
SUMMARY:Standard Single Single
URL:/site/bmx_races/423513
END:VEVENT
END:VCALENDAR
