BEGIN:VCALENDAR
VERSION:2.0
PRODID:icalendar-ruby
CALSCALE:GREGORIAN
METHOD:PUBLISH
BEGIN:VEVENT
DTSTAMP:20260423T062121Z
UID:18c476ea-f3fe-4f0d-8bdf-d8569a64955d
DTSTART;VALUE=DATE:20200829
DTEND;VALUE=DATE:20200829
DESCRIPTION:Twin Silo BMX
LOCATION:5400 Ziegler Rd.   Ft Collins CO 80528 USA
SUMMARY:Standard Single Single
URL:/site/bmx_races/423522
END:VEVENT
END:VCALENDAR
