BEGIN:VCALENDAR
VERSION:2.0
PRODID:icalendar-ruby
CALSCALE:GREGORIAN
METHOD:PUBLISH
BEGIN:VEVENT
DTSTAMP:20260423T175832Z
UID:fd984986-9d1a-4398-bd52-23252c4f3af0
DTSTART;VALUE=DATE:20201114
DTEND;VALUE=DATE:20201114
DESCRIPTION:Twin Silo BMX
LOCATION:5400 Ziegler Rd.   Ft Collins CO 80528 USA
SUMMARY:Local Race Single
URL:/site/bmx_races/423533
END:VEVENT
END:VCALENDAR
