BEGIN:VCALENDAR
VERSION:2.0
PRODID:icalendar-ruby
CALSCALE:GREGORIAN
METHOD:PUBLISH
BEGIN:VEVENT
DTSTAMP:20260423T004348Z
UID:3e2dfeff-c147-482f-8ec2-bae86ba6a920
DTSTART;VALUE=DATE:20130430
DTEND;VALUE=DATE:20130430
DESCRIPTION:Apple Valley BMX Moto Park
LOCATION:24320 Highway 18  Apple Valley CA 92307 USA
SUMMARY:Local Race Single
URL:/site/bmx_races/42382
END:VEVENT
END:VCALENDAR
