BEGIN:VCALENDAR
VERSION:2.0
PRODID:icalendar-ruby
CALSCALE:GREGORIAN
METHOD:PUBLISH
BEGIN:VEVENT
DTSTAMP:20260421T160447Z
UID:6b15cbe7-86f9-4e8d-91ea-29345a15c4a9
DTSTART;VALUE=DATE:20200725
DTEND;VALUE=DATE:20200725
DESCRIPTION:Yukon BMX
LOCATION:Taylor Park Sports Complex   410 N 11th St Yukon OK 73064 USA
SUMMARY:Standard Single Single
URL:/site/bmx_races/424082
END:VEVENT
END:VCALENDAR
