BEGIN:VCALENDAR
VERSION:2.0
PRODID:icalendar-ruby
CALSCALE:GREGORIAN
METHOD:PUBLISH
BEGIN:VEVENT
DTSTAMP:20260423T082526Z
UID:9e9b86ee-eee1-4edf-9a93-53953e99267d
DTSTART;VALUE=DATE:20191207
DTEND;VALUE=DATE:20191207
DESCRIPTION:Hampton BMX
LOCATION:901 E Littleback River Rd  Hampton VA 23669 USA
SUMMARY:Earned Double
URL:/site/bmx_races/424697
END:VEVENT
END:VCALENDAR
