BEGIN:VCALENDAR
VERSION:2.0
PRODID:icalendar-ruby
CALSCALE:GREGORIAN
METHOD:PUBLISH
BEGIN:VEVENT
DTSTAMP:20260424T152112Z
UID:e910437b-a59a-4240-af91-d5fde3d817e4
DTSTART;VALUE=DATE:20201120
DTEND;VALUE=DATE:20201120
DESCRIPTION:Blue Springs BMX
LOCATION:2715 Nw Park Drive  Blue Springs MO 64015 USA
SUMMARY:Standard Single Single
URL:/site/bmx_races/424863
END:VEVENT
END:VCALENDAR
