BEGIN:VCALENDAR
VERSION:2.0
PRODID:icalendar-ruby
CALSCALE:GREGORIAN
METHOD:PUBLISH
BEGIN:VEVENT
DTSTAMP:20260422T055526Z
UID:224de871-2b69-451f-93b9-c6e4a0a29bb0
DTSTART;VALUE=DATE:20191111
DTEND;VALUE=DATE:20191111
DESCRIPTION:Grand Valley BMX
LOCATION:2785 U.S. Highway 50  Grand Junction CO 81503 USA
SUMMARY:Standard Single Single
URL:/site/bmx_races/425183
END:VEVENT
END:VCALENDAR
