BEGIN:VCALENDAR
VERSION:2.0
PRODID:icalendar-ruby
CALSCALE:GREGORIAN
METHOD:PUBLISH
BEGIN:VEVENT
DTSTAMP:20260424T052445Z
UID:977e8d7a-5771-42ad-8ae7-70fece27467f
DTSTART;VALUE=DATE:20200806
DTEND;VALUE=DATE:20200806
DESCRIPTION:Razor City BMX
LOCATION:200 Pumphouse Ln  Gillette WY 82716 USA
SUMMARY:Standard Single Single
URL:/site/bmx_races/425840
END:VEVENT
END:VCALENDAR
