BEGIN:VCALENDAR
VERSION:2.0
PRODID:icalendar-ruby
CALSCALE:GREGORIAN
METHOD:PUBLISH
BEGIN:VEVENT
DTSTAMP:20260424T025221Z
UID:bcf94358-2040-4ea9-9ad6-0157a54f7760
DTSTART;VALUE=DATE:20200912
DTEND;VALUE=DATE:20200912
DESCRIPTION:Hunterdon County BMX
LOCATION:314 Rt 12 North  Flemington NJ 08822 USA
SUMMARY:Race For Life Double Double
URL:/site/bmx_races/426087
END:VEVENT
END:VCALENDAR
