BEGIN:VCALENDAR
VERSION:2.0
PRODID:icalendar-ruby
CALSCALE:GREGORIAN
METHOD:PUBLISH
BEGIN:VEVENT
DTSTAMP:20260422T113842Z
UID:a2d6d653-d766-4f68-baa1-7d6ee0d2d06c
DTSTART;VALUE=DATE:20200715
DTEND;VALUE=DATE:20200715
DESCRIPTION:Ed Fountain Park BMX Raceway
LOCATION:1400 N Decatur Blvd  Las Vegas NV 89108 USA
SUMMARY:Clinic
URL:/site/bmx_races/426216
END:VEVENT
END:VCALENDAR
