BEGIN:VCALENDAR
VERSION:2.0
PRODID:icalendar-ruby
CALSCALE:GREGORIAN
METHOD:PUBLISH
BEGIN:VEVENT
DTSTAMP:20260422T113710Z
UID:c36b6f26-4fa4-41a6-8eb2-06d835c5e26e
DTSTART;VALUE=DATE:20200729
DTEND;VALUE=DATE:20200729
DESCRIPTION:Ed Fountain Park BMX Raceway
LOCATION:1400 N Decatur Blvd  Las Vegas NV 89108 USA
SUMMARY:Clinic
URL:/site/bmx_races/426218
END:VEVENT
END:VCALENDAR
