BEGIN:VCALENDAR
VERSION:2.0
PRODID:icalendar-ruby
CALSCALE:GREGORIAN
METHOD:PUBLISH
BEGIN:VEVENT
DTSTAMP:20260422T054217Z
UID:b96ef951-e25e-45f9-b112-1956e64c191d
DTSTART;VALUE=DATE:20201110
DTEND;VALUE=DATE:20201110
DESCRIPTION:Ed Fountain Park BMX Raceway
LOCATION:1400 N Decatur Blvd  Las Vegas NV 89108 USA
SUMMARY:Practice
URL:/site/bmx_races/426325
END:VEVENT
END:VCALENDAR
