BEGIN:VCALENDAR
VERSION:2.0
PRODID:icalendar-ruby
CALSCALE:GREGORIAN
METHOD:PUBLISH
BEGIN:VEVENT
DTSTAMP:20260422T152044Z
UID:4564c95b-3d3d-4087-a67f-9b017efa36ff
DTSTART;VALUE=DATE:20200513
DTEND;VALUE=DATE:20200513
DESCRIPTION:Ed Fountain Park BMX Raceway
LOCATION:1400 N Decatur Blvd  Las Vegas NV 89108 USA
SUMMARY:Clinic
URL:/site/bmx_races/426353
END:VEVENT
END:VCALENDAR
