BEGIN:VCALENDAR
VERSION:2.0
PRODID:icalendar-ruby
CALSCALE:GREGORIAN
METHOD:PUBLISH
BEGIN:VEVENT
DTSTAMP:20260422T082844Z
UID:655dcb3f-8fcf-4a99-9f42-76ab07e56e3d
DTSTART;VALUE=DATE:20200909
DTEND;VALUE=DATE:20200909
DESCRIPTION:Ed Fountain Park BMX Raceway
LOCATION:1400 N Decatur Blvd  Las Vegas NV 89108 USA
SUMMARY:Clinic
URL:/site/bmx_races/426370
END:VEVENT
END:VCALENDAR
