BEGIN:VCALENDAR
VERSION:2.0
PRODID:icalendar-ruby
CALSCALE:GREGORIAN
METHOD:PUBLISH
BEGIN:VEVENT
DTSTAMP:20260422T082942Z
UID:ed4fc935-f9ed-4c8f-9511-ad05783f2bc1
DTSTART;VALUE=DATE:20200916
DTEND;VALUE=DATE:20200916
DESCRIPTION:Ed Fountain Park BMX Raceway
LOCATION:1400 N Decatur Blvd  Las Vegas NV 89108 USA
SUMMARY:Clinic
URL:/site/bmx_races/426371
END:VEVENT
END:VCALENDAR
