BEGIN:VCALENDAR
VERSION:2.0
PRODID:icalendar-ruby
CALSCALE:GREGORIAN
METHOD:PUBLISH
BEGIN:VEVENT
DTSTAMP:20260422T070733Z
UID:6b858af1-9b53-42c6-8199-10cfd3766081
DTSTART;VALUE=DATE:20201021
DTEND;VALUE=DATE:20201021
DESCRIPTION:Ed Fountain Park BMX Raceway
LOCATION:1400 N Decatur Blvd  Las Vegas NV 89108 USA
SUMMARY:Clinic
URL:/site/bmx_races/426376
END:VEVENT
END:VCALENDAR
