BEGIN:VCALENDAR
VERSION:2.0
PRODID:icalendar-ruby
CALSCALE:GREGORIAN
METHOD:PUBLISH
BEGIN:VEVENT
DTSTAMP:20260419T214249Z
UID:1833dfe1-c839-4fc4-945d-be36b29e13a5
DTSTART;VALUE=DATE:20200211
DTEND;VALUE=DATE:20200211
DESCRIPTION:Ed Fountain Park BMX Raceway
LOCATION:1400 N Decatur Blvd  Las Vegas NV 89108 USA
SUMMARY:Standard Single Single
URL:/site/bmx_races/426385
END:VEVENT
END:VCALENDAR
