BEGIN:VCALENDAR
VERSION:2.0
PRODID:icalendar-ruby
CALSCALE:GREGORIAN
METHOD:PUBLISH
BEGIN:VEVENT
DTSTAMP:20260419T235123Z
UID:431844b6-08b1-4456-a591-4d7f0c6f8ba4
DTSTART;VALUE=DATE:20191105
DTEND;VALUE=DATE:20191105
DESCRIPTION:Boomtown BMX
LOCATION:17760 Shasta Dam Blvd  Shasta Lake CA 96019 USA
SUMMARY:Standard Single Single
URL:/site/bmx_races/426414
END:VEVENT
END:VCALENDAR
