BEGIN:VCALENDAR
VERSION:2.0
PRODID:icalendar-ruby
CALSCALE:GREGORIAN
METHOD:PUBLISH
BEGIN:VEVENT
DTSTAMP:20260422T042620Z
UID:18aba922-d43b-4a6c-a853-7958f1c8f628
DTSTART;VALUE=DATE:20200823
DTEND;VALUE=DATE:20200823
DESCRIPTION:Goodyear BMX Raceway
LOCATION:15660 W Roeser Rd  Goodyear AZ 85338 USA
SUMMARY:Standard Single Single
URL:/site/bmx_races/426916
END:VEVENT
END:VCALENDAR
