BEGIN:VCALENDAR
VERSION:2.0
PRODID:icalendar-ruby
CALSCALE:GREGORIAN
METHOD:PUBLISH
BEGIN:VEVENT
DTSTAMP:20260424T114051Z
UID:f00b8617-3e4d-40ff-aa68-69129dbee025
DTSTART;VALUE=DATE:20200523
DTEND;VALUE=DATE:20200523
DESCRIPTION:Rogue Valley BMX
LOCATION:Highland Drive  Medford OR 97504 USA
SUMMARY:Local Race Single
URL:/site/bmx_races/427426
END:VEVENT
END:VCALENDAR
