BEGIN:VCALENDAR
VERSION:2.0
PRODID:icalendar-ruby
CALSCALE:GREGORIAN
METHOD:PUBLISH
BEGIN:VEVENT
DTSTAMP:20260419T155524Z
UID:48f3969f-3829-4418-90dd-7add8848796a
DTSTART;VALUE=DATE:20200128
DTEND;VALUE=DATE:20200128
DESCRIPTION:Okeeheelee BMX
LOCATION:8145 Forest Hill Blvd  West Palm Beach FL 33413 USA
SUMMARY:Standard Single Single
URL:/site/bmx_races/427965
END:VEVENT
END:VCALENDAR
