BEGIN:VCALENDAR
VERSION:2.0
PRODID:icalendar-ruby
CALSCALE:GREGORIAN
METHOD:PUBLISH
BEGIN:VEVENT
DTSTAMP:20260423T024315Z
UID:ccb62692-ce93-4203-b326-16fc0ba0b232
DTSTART;VALUE=DATE:20200809
DTEND;VALUE=DATE:20200809
DESCRIPTION:Music City BMX Association
LOCATION:2901 Bell Road  Nashville TN 37217 USA
SUMMARY:Standard Single Single
URL:/site/bmx_races/428035
END:VEVENT
END:VCALENDAR
