BEGIN:VCALENDAR
VERSION:2.0
PRODID:icalendar-ruby
CALSCALE:GREGORIAN
METHOD:PUBLISH
BEGIN:VEVENT
DTSTAMP:20260419T170745Z
UID:dda1df4f-93ae-48f5-be59-fac3669c6e7f
DTSTART;VALUE=DATE:20200724
DTEND;VALUE=DATE:20200724
DESCRIPTION:Tampa BMX Raceway\, Inc.
LOCATION:17302 Dale Mabry Hwy North  Lutz FL 33548 USA
SUMMARY:Standard Single Single
URL:/site/bmx_races/428267
END:VEVENT
END:VCALENDAR
