BEGIN:VCALENDAR
VERSION:2.0
PRODID:icalendar-ruby
CALSCALE:GREGORIAN
METHOD:PUBLISH
BEGIN:VEVENT
DTSTAMP:20260422T125850Z
UID:8b8caff9-7f42-4bf3-942f-bad45abd6608
DTSTART;VALUE=DATE:20200912
DTEND;VALUE=DATE:20200912
DESCRIPTION:Pearland BMX
LOCATION:5657 Morning Dove Ln  Alvin TX 77511 USA
SUMMARY:Standard Single Single
URL:/site/bmx_races/428423
END:VEVENT
END:VCALENDAR
