BEGIN:VCALENDAR
VERSION:2.0
PRODID:icalendar-ruby
CALSCALE:GREGORIAN
METHOD:PUBLISH
BEGIN:VEVENT
DTSTAMP:20260422T023337Z
UID:68dafd1d-656c-4878-899f-69b7d7038175
DTSTART;VALUE=DATE:20201124
DTEND;VALUE=DATE:20201124
DESCRIPTION:Blanchard Woods BMX
LOCATION:4600 Blanchard Woods Drive  Evans GA 30809 USA
SUMMARY:Practice
URL:/site/bmx_races/428564
END:VEVENT
END:VCALENDAR
